BEGIN:VCALENDAR
VERSION:2.0
PRODID:-//ciseventsgroup.com
CALSCALE:GREGORIAN
BEGIN:VEVENT
UID:20260422T175556Z@ciseventsgroup.com
SUMMARY:Міжнародний Гранд Форум «Навколо	Хмари. Навколо Даних. Навколо КЦ.	Навколо IoT. Навколо Безпеки» (BIT-2020) та	«Навколо Кабелю. Навколо IP. Smart Building»	(BIS-2020) у Києві
DESCRIPTION:«Навколо Хмари. Навколо Даних. Навколо	КЦ. Навколо IoT. Навколо Безпеки.	Навколо Кабелю. Навколо IP. Smart Building»	(або BIT&BIS-2020) – це подія №1 на	вітчизняному ринку високих	технологій. Захід охоплює всі питання,	пов'язані з хмарними обчисленнями,	бізнес-аналітикою, Великими Даними,	зберіганням та обробкою інформації,	сучасними контакт-центрами,	Інтернетом речей, інформаційною	безпекою, побудовою кабельних мереж,	інженерних систем будівель і	телеком-ліній, тестуванням і	діагностикою систем зв'язку,	розгортанням сучасних	інформаційно-комунікаційних сервісів	(рішення, послуги, продукти,	технології та експертиза). Очікувана	аудиторія – 350+ людей!
LOCATION:Ультрамарин Хол, Україна, Київ, вул.	Василя Липківського, 1а
DTSTART;TZID=Europe/Kiev:20200226T090000
DTEND;TZID=Europe/Kiev:20200226T180000
DTSTAMP:20260422T175556Z
END:VEVENT
END:VCALENDAR